BEGIN:VCALENDAR
VERSION:2.0
PRODID:-//hacksw/handcal//NONSGML v1.0//EN
BEGIN:VEVENT
UID:2152
DTSTART;VALUE=DATE:20141009
URL;VALUE=URI:ohschonhell.at/?page_id=4823
SUMMARY:MINISEX goes U4! Gäste: Erstes Wiener Heimorgelorchester und DJ Patrick Pulsinger
LOCATION:U4
END:VEVENT
END:VCALENDAR


