BEGIN:VCALENDAR
VERSION:2.0
PRODID:-//hacksw/handcal//NONSGML v1.0//EN
BEGIN:VEVENT
UID:2176
DTSTART;VALUE=DATE:20141011
URL;VALUE=URI:ohschonhell.at/?page_id=4852
SUMMARY:Leap Label Night - Club Dual ☻
LOCATION:DUAL
END:VEVENT
END:VCALENDAR


