BEGIN:VCALENDAR
VERSION:2.0
PRODID:-//hacksw/handcal//NONSGML v1.0//EN
BEGIN:VEVENT
UID:2191
DTSTART;VALUE=DATE:20141009
URL;VALUE=URI:ohschonhell.at/?page_id=4871
SUMMARY:ELEKTRAE: CLUB COURAGE – DISCOURSE #3 „Gender Trouble auf dem Dancefloor“ – LIVE: Electric Indigo: &quot\;Morpheme&quot\;
LOCATION:ELEKTRO GÖNNER
END:VEVENT
END:VCALENDAR


