BEGIN:VCALENDAR
VERSION:2.0
PRODID:-//hacksw/handcal//NONSGML v1.0//EN
BEGIN:VEVENT
UID:2192
DTSTART;VALUE=DATE:20141005
URL;VALUE=URI:ohschonhell.at/?page_id=4872
SUMMARY:teCHnO bRUnCH mit Dominik Löblich (Funkroom\, AT)
LOCATION:RADIO - THE LABEL BAR
END:VEVENT
END:VCALENDAR


