BEGIN:VCALENDAR
VERSION:2.0
PRODID:-//hacksw/handcal//NONSGML v1.0//EN
BEGIN:VEVENT
UID:2219
DTSTART;VALUE=DATE:20141024
URL;VALUE=URI:ohschonhell.at/?page_id=4900
SUMMARY:SOUNDLAB PIRATES meets *Alpha Beta Gemma* ---&gt\; freaky Psy / Hi-Tech Night
LOCATION:CAMERA CLUB
END:VEVENT
END:VCALENDAR


