BEGIN:VCALENDAR
VERSION:2.0
PRODID:-//hacksw/handcal//NONSGML v1.0//EN
BEGIN:VEVENT
UID:2220
DTSTART;VALUE=DATE:20141018
URL;VALUE=URI:ohschonhell.at/?page_id=4901
SUMMARY:SPUTNIK
LOCATION:DUAL
END:VEVENT
END:VCALENDAR


