BEGIN:VCALENDAR
VERSION:2.0
PRODID:-//hacksw/handcal//NONSGML v1.0//EN
BEGIN:VEVENT
UID:2238
DTSTART;VALUE=DATE:20141004
URL;VALUE=URI:ohschonhell.at/?page_id=4922
SUMMARY:&quot\;OKIM am Samstag&quot\;  im Schikaneder
LOCATION:SCHIKANEDER
END:VEVENT
END:VCALENDAR


