BEGIN:VCALENDAR
VERSION:2.0
PRODID:-//hacksw/handcal//NONSGML v1.0//EN
BEGIN:VEVENT
UID:224
DTSTART;VALUE=DATE:20131210
URL;VALUE=URI:ohschonhell.at/?page_id=2710
SUMMARY:☂ [dunkelbunt] &amp\; The Secret Swing Society ♫ LIVE IN CONCERT ♫ VIENNA @ WUK 10.12.2013
LOCATION:WUK
END:VEVENT
END:VCALENDAR


