BEGIN:VCALENDAR
VERSION:2.0
PRODID:-//hacksw/handcal//NONSGML v1.0//EN
BEGIN:VEVENT
UID:2246
DTSTART;VALUE=DATE:20141107
URL;VALUE=URI:ohschonhell.at/?page_id=4932
SUMMARY:The Gap Release ft. MOTSA\, Janefondas
LOCATION:BRUT
END:VEVENT
END:VCALENDAR


