BEGIN:VCALENDAR
VERSION:2.0
PRODID:-//hacksw/handcal//NONSGML v1.0//EN
BEGIN:VEVENT
UID:2251
DTSTART;VALUE=DATE:20141018
URL;VALUE=URI:ohschonhell.at/?page_id=4937
SUMMARY:CUARTERO {moon harbour - sanity - desolat • b4} Spain • die Kantine • ...bakery hosted by OUTLINE
LOCATION:DIE KANTINE
END:VEVENT
END:VCALENDAR


