BEGIN:VCALENDAR
VERSION:2.0
PRODID:-//hacksw/handcal//NONSGML v1.0//EN
BEGIN:VEVENT
UID:2257
DTSTART;VALUE=DATE:20141010
URL;VALUE=URI:ohschonhell.at/?page_id=4943
SUMMARY:!!HEUTE!!  LAST CABARET w/ MISS JOOLS (BERLIN) • MOBILEE REC. @ DIE KANTINE
LOCATION:DIE KANTINE
END:VEVENT
END:VCALENDAR


