BEGIN:VCALENDAR
VERSION:2.0
PRODID:-//hacksw/handcal//NONSGML v1.0//EN
BEGIN:VEVENT
UID:2271
DTSTART;VALUE=DATE:20141017
URL;VALUE=URI:ohschonhell.at/?page_id=4966
SUMMARY:MUTTER -  S2 E1 - still.vinyl.only - NEW LOCATION!!!
LOCATION:DUAL
END:VEVENT
END:VCALENDAR


