BEGIN:VCALENDAR
VERSION:2.0
PRODID:-//hacksw/handcal//NONSGML v1.0//EN
BEGIN:VEVENT
UID:2297
DTSTART;VALUE=DATE:20141122
URL;VALUE=URI:ohschonhell.at/?page_id=4995
SUMMARY:Richard Dorfmeister\, Megablast\, Gümix\, Andreas Weisz\, Pony Club
LOCATION:ROTE BAR
END:VEVENT
END:VCALENDAR


