BEGIN:VCALENDAR
VERSION:2.0
PRODID:-//hacksw/handcal//NONSGML v1.0//EN
BEGIN:VEVENT
UID:2298
DTSTART;VALUE=DATE:20141016
URL;VALUE=URI:ohschonhell.at/?page_id=4996
SUMMARY:VIENNA OPENing hosted by TINGEL TANGEL
LOCATION:HEUER AM KARLSPLATZ
END:VEVENT
END:VCALENDAR


