BEGIN:VCALENDAR
VERSION:2.0
PRODID:-//hacksw/handcal//NONSGML v1.0//EN
BEGIN:VEVENT
UID:2299
DTSTART;VALUE=DATE:20141018
URL;VALUE=URI:ohschonhell.at/?page_id=4997
SUMMARY:CONCRETE w/ MOTSA | SA. 18/OKT
LOCATION:FLEX CAFE
END:VEVENT
END:VCALENDAR


