BEGIN:VCALENDAR
VERSION:2.0
PRODID:-//hacksw/handcal//NONSGML v1.0//EN
BEGIN:VEVENT
UID:2304
DTSTART;VALUE=DATE:20141108
URL;VALUE=URI:ohschonhell.at/?page_id=5003
SUMMARY:PROGRESSIVE SELECTION pres. FABIO &amp\; MOON live &amp\; dj @ CAMERA CLUB
LOCATION:CAMERA CLUB
END:VEVENT
END:VCALENDAR


