BEGIN:VCALENDAR
VERSION:2.0
PRODID:-//hacksw/handcal//NONSGML v1.0//EN
BEGIN:VEVENT
UID:2306
DTSTART;VALUE=DATE:20141031
URL;VALUE=URI:ohschonhell.at/?page_id=5005
SUMMARY:SASS RÜBENGEISTERN - Halloween
LOCATION:SASS
END:VEVENT
END:VCALENDAR


