BEGIN:VCALENDAR
VERSION:2.0
PRODID:-//hacksw/handcal//NONSGML v1.0//EN
BEGIN:VEVENT
UID:2318
DTSTART;VALUE=DATE:20141025
URL;VALUE=URI:ohschonhell.at/?page_id=5017
SUMMARY:zero gravity´s psytrance special 2  - dj contest inside
LOCATION:FLEX CAFE
END:VEVENT
END:VCALENDAR


