BEGIN:VCALENDAR
VERSION:2.0
PRODID:-//hacksw/handcal//NONSGML v1.0//EN
BEGIN:VEVENT
UID:2321
DTSTART;VALUE=DATE:20141017
URL;VALUE=URI:ohschonhell.at/?page_id=5020
SUMMARY:SUPERDISKO
LOCATION:ELEKTRO GÖNNER
END:VEVENT
END:VCALENDAR


