BEGIN:VCALENDAR
VERSION:2.0
PRODID:-//hacksw/handcal//NONSGML v1.0//EN
BEGIN:VEVENT
UID:2324
DTSTART;VALUE=DATE:20141025
URL;VALUE=URI:ohschonhell.at/?page_id=5024
SUMMARY:EXCHANGE BERLIN zu Gast in Wien • die Kantine
LOCATION:DIE KANTINE
END:VEVENT
END:VCALENDAR


