BEGIN:VCALENDAR
VERSION:2.0
PRODID:-//hacksw/handcal//NONSGML v1.0//EN
BEGIN:VEVENT
UID:2332
DTSTART;VALUE=DATE:20141024
URL;VALUE=URI:ohschonhell.at/?page_id=5033
SUMMARY:ALEX BARCK (JAZZANOVA) / SOULPARLOR (TOKYO DAWN RECORDS) / D. SCHAERF (BEAT BUREAU)
LOCATION:VIENNALE FESTIVALZENTRUM
END:VEVENT
END:VCALENDAR


