BEGIN:VCALENDAR
VERSION:2.0
PRODID:-//hacksw/handcal//NONSGML v1.0//EN
BEGIN:VEVENT
UID:2333
DTSTART;VALUE=DATE:20141029
URL;VALUE=URI:ohschonhell.at/?page_id=5035
SUMMARY:ANNA LEISER &amp\; MOOGLE (BEBOP RODEO)
LOCATION:VIENNALE FESTIVALZENTRUM
END:VEVENT
END:VCALENDAR


