BEGIN:VCALENDAR
VERSION:2.0
PRODID:-//hacksw/handcal//NONSGML v1.0//EN
BEGIN:VEVENT
UID:2334
DTSTART;VALUE=DATE:20141031
URL;VALUE=URI:ohschonhell.at/?page_id=5038
SUMMARY:SEXY DEUTSCH / HAM / FLUX
LOCATION:VIENNALE FESTIVALZENTRUM
END:VEVENT
END:VCALENDAR


