BEGIN:VCALENDAR
VERSION:2.0
PRODID:-//hacksw/handcal//NONSGML v1.0//EN
BEGIN:VEVENT
UID:2348
DTSTART;VALUE=DATE:20141031
URL;VALUE=URI:ohschonhell.at/?page_id=5070
SUMMARY:Jack by The Gap presents ZANSHIN (Affine Records) &lt\;Jungle Set&gt\;
LOCATION:DUAL
END:VEVENT
END:VCALENDAR


