BEGIN:VCALENDAR
VERSION:2.0
PRODID:-//hacksw/handcal//NONSGML v1.0//EN
BEGIN:VEVENT
UID:2350
DTSTART;VALUE=DATE:20141024
URL;VALUE=URI:ohschonhell.at/?page_id=5072
SUMMARY:Forever Lovers - from Disco to Deephouse - HEUTE
LOCATION:DUAL
END:VEVENT
END:VCALENDAR


