BEGIN:VCALENDAR
VERSION:2.0
PRODID:-//hacksw/handcal//NONSGML v1.0//EN
BEGIN:VEVENT
UID:2353
DTSTART;VALUE=DATE:20141023
URL;VALUE=URI:ohschonhell.at/?page_id=5075
SUMMARY:BEAT IT - DnB
LOCATION:FLEX
END:VEVENT
END:VCALENDAR


