BEGIN:VCALENDAR
VERSION:2.0
PRODID:-//hacksw/handcal//NONSGML v1.0//EN
BEGIN:VEVENT
UID:2409
DTSTART;VALUE=DATE:20141108
URL;VALUE=URI:ohschonhell.at/?page_id=5146
SUMMARY:Canyoudigit w/ Lil Silva (UK) &amp\; Sixtus Preiss (Affine) LIVE
LOCATION:CAFE LEOPOLD
END:VEVENT
END:VCALENDAR


