BEGIN:VCALENDAR
VERSION:2.0
PRODID:-//hacksw/handcal//NONSGML v1.0//EN
BEGIN:VEVENT
UID:2412
DTSTART;VALUE=DATE:20141108
URL;VALUE=URI:ohschonhell.at/?page_id=5151
SUMMARY:Get Whipped in November!
LOCATION:VOLKSGARTEN
END:VEVENT
END:VCALENDAR


