BEGIN:VCALENDAR
VERSION:2.0
PRODID:-//hacksw/handcal//NONSGML v1.0//EN
BEGIN:VEVENT
UID:2426
DTSTART;VALUE=DATE:20141121
URL;VALUE=URI:ohschonhell.at/?page_id=5168
SUMMARY:NYLON Nachtflug!  7 Jahre NYLON\, FR. 21. November!
LOCATION:SASS
END:VEVENT
END:VCALENDAR


