BEGIN:VCALENDAR
VERSION:2.0
PRODID:-//hacksw/handcal//NONSGML v1.0//EN
BEGIN:VEVENT
UID:2430
DTSTART;VALUE=DATE:20141122
URL;VALUE=URI:ohschonhell.at/?page_id=5172
SUMMARY:BOINK! pres.: NIEREICH @ Camera Club\, Vienna
LOCATION:CAMERA CLUB
END:VEVENT
END:VCALENDAR


