BEGIN:VCALENDAR
VERSION:2.0
PRODID:-//hacksw/handcal//NONSGML v1.0//EN
BEGIN:VEVENT
UID:2438
DTSTART;VALUE=DATE:20141205
URL;VALUE=URI:ohschonhell.at/?page_id=5180
SUMMARY:TECHNO BEATS PER MINUTE - FRANCESCO TERRANOVA | SUTTER CANE | JOAKIM A.
LOCATION:DOTS twentyone
END:VEVENT
END:VCALENDAR


