BEGIN:VCALENDAR
VERSION:2.0
PRODID:-//hacksw/handcal//NONSGML v1.0//EN
BEGIN:VEVENT
UID:2440
DTSTART;VALUE=DATE:20141122
URL;VALUE=URI:ohschonhell.at/?page_id=5182
SUMMARY:Red Bull Music Academy Weekender Vienna / Theo Parrish / Doc Daneeka &amp\; Benjamin Damage
LOCATION:TECH GATE VIENNA
END:VEVENT
END:VCALENDAR


