BEGIN:VCALENDAR
VERSION:2.0
PRODID:-//hacksw/handcal//NONSGML v1.0//EN
BEGIN:VEVENT
UID:2441
DTSTART;VALUE=DATE:20141122
URL;VALUE=URI:ohschonhell.at/?page_id=5183
SUMMARY:Spiritual Journey
LOCATION:SPITTELAU 10
END:VEVENT
END:VCALENDAR


