BEGIN:VCALENDAR
VERSION:2.0
PRODID:-//hacksw/handcal//NONSGML v1.0//EN
BEGIN:VEVENT
UID:2447
DTSTART;VALUE=DATE:20141112
URL;VALUE=URI:ohschonhell.at/?page_id=5189
SUMMARY:das_em &amp\; andi fettkakao
LOCATION:ELEKTRO GÖNNER
END:VEVENT
END:VCALENDAR


