BEGIN:VCALENDAR
VERSION:2.0
PRODID:-//hacksw/handcal//NONSGML v1.0//EN
BEGIN:VEVENT
UID:2453
DTSTART;VALUE=DATE:20151104
URL;VALUE=URI:ohschonhell.at/?page_id=5195
SUMMARY:The Gap und Viennale präsentieren: FREE THE ROBOTS
LOCATION:VIENNALE FESTIVALZENTRUM
END:VEVENT
END:VCALENDAR


