BEGIN:VCALENDAR
VERSION:2.0
PRODID:-//hacksw/handcal//NONSGML v1.0//EN
BEGIN:VEVENT
UID:2465
DTSTART;VALUE=DATE:20141123
URL;VALUE=URI:ohschonhell.at/?page_id=5215
SUMMARY:&quot\;WE CAME DANCED LOVED&quot\; ♥ So.23.11.14 ♥ MARX PALAST ♥
LOCATION:MARX PALAST
END:VEVENT
END:VCALENDAR


