BEGIN:VCALENDAR
VERSION:2.0
PRODID:-//hacksw/handcal//NONSGML v1.0//EN
BEGIN:VEVENT
UID:2466
DTSTART;VALUE=DATE:20141113
URL;VALUE=URI:ohschonhell.at/?page_id=5216
SUMMARY:gemeinsam Kommen mit Kruse &amp\; Nürnberg
LOCATION:CAMERA CLUB
END:VEVENT
END:VCALENDAR


