BEGIN:VCALENDAR
VERSION:2.0
PRODID:-//hacksw/handcal//NONSGML v1.0//EN
BEGIN:VEVENT
UID:2470
DTSTART;VALUE=DATE:20141121
URL;VALUE=URI:ohschonhell.at/?page_id=5220
SUMMARY:TUBE &amp\; BERGER : KITTBALL • die Kantine
LOCATION:DIE KANTINE
END:VEVENT
END:VCALENDAR


