BEGIN:VCALENDAR
VERSION:2.0
PRODID:-//hacksw/handcal//NONSGML v1.0//EN
BEGIN:VEVENT
UID:2472
DTSTART;VALUE=DATE:20141122
URL;VALUE=URI:ohschonhell.at/?page_id=5222
SUMMARY:Die Kantine legends w/ TIMO MAAS - CROSSING WIRES ALBUM TOUR • bakery hosted by ANZENGRUBER !
LOCATION:DIE KANTINE
END:VEVENT
END:VCALENDAR


