BEGIN:VCALENDAR
VERSION:2.0
PRODID:-//hacksw/handcal//NONSGML v1.0//EN
BEGIN:VEVENT
UID:2479
DTSTART;VALUE=DATE:20141114
URL;VALUE=URI:ohschonhell.at/?page_id=5233
SUMMARY:◎ Sweet Heat ft. Felix the Houserat ◎
LOCATION:BRUT
END:VEVENT
END:VCALENDAR


