BEGIN:VCALENDAR
VERSION:2.0
PRODID:-//hacksw/handcal//NONSGML v1.0//EN
BEGIN:VEVENT
UID:2481
DTSTART;VALUE=DATE:20141212
URL;VALUE=URI:ohschonhell.at/?page_id=5235
SUMMARY:BLAKKOUT | ZADIG (Paris) | Auslage | Vienna
LOCATION:AUSLAGE
END:VEVENT
END:VCALENDAR


