BEGIN:VCALENDAR
VERSION:2.0
PRODID:-//hacksw/handcal//NONSGML v1.0//EN
BEGIN:VEVENT
UID:2487
DTSTART;VALUE=DATE:20141115
URL;VALUE=URI:ohschonhell.at/?page_id=5242
SUMMARY:Tanzmatratze goes Belair
LOCATION:ELEKTRO GÖNNER
END:VEVENT
END:VCALENDAR


