BEGIN:VCALENDAR
VERSION:2.0
PRODID:-//hacksw/handcal//NONSGML v1.0//EN
BEGIN:VEVENT
UID:2488
DTSTART;VALUE=DATE:20141115
URL;VALUE=URI:ohschonhell.at/?page_id=5243
SUMMARY:Fairys ∆ Unicorns &amp\; Freaks with FSNK (Decandenxa Rec.)
LOCATION:RADIO - THE LABEL BAR
END:VEVENT
END:VCALENDAR


