BEGIN:VCALENDAR
VERSION:2.0
PRODID:-//hacksw/handcal//NONSGML v1.0//EN
BEGIN:VEVENT
UID:2494
DTSTART;VALUE=DATE:20141114
URL;VALUE=URI:ohschonhell.at/?page_id=5250
SUMMARY:Lost in Bass
LOCATION:ELEKTRO GÖNNER
END:VEVENT
END:VCALENDAR


