BEGIN:VCALENDAR
VERSION:2.0
PRODID:-//hacksw/handcal//NONSGML v1.0//EN
BEGIN:VEVENT
UID:2509
DTSTART;VALUE=DATE:20141122
URL;VALUE=URI:ohschonhell.at/?page_id=5268
SUMMARY:Stadt Land Fluss @ Elektro Gönner
LOCATION:ELEKTRO GÖNNER
END:VEVENT
END:VCALENDAR


