BEGIN:VCALENDAR
VERSION:2.0
PRODID:-//hacksw/handcal//NONSGML v1.0//EN
BEGIN:VEVENT
UID:251
DTSTART;VALUE=DATE:20131213
URL;VALUE=URI:ohschonhell.at/?page_id=2737
SUMMARY:Switch! feat. Jaydan
LOCATION:CAMERA CLUB
END:VEVENT
END:VCALENDAR


