BEGIN:VCALENDAR
VERSION:2.0
PRODID:-//hacksw/handcal//NONSGML v1.0//EN
BEGIN:VEVENT
UID:2515
DTSTART;VALUE=DATE:20141122
URL;VALUE=URI:ohschonhell.at/?page_id=5274
SUMMARY:WOM:BASS:TIC : You can&#039\;t contain this marsupial !!
LOCATION:WOMBATS THE LOUNGE
END:VEVENT
END:VCALENDAR


