BEGIN:VCALENDAR
VERSION:2.0
PRODID:-//hacksw/handcal//NONSGML v1.0//EN
BEGIN:VEVENT
UID:2516
DTSTART;VALUE=DATE:20141121
URL;VALUE=URI:ohschonhell.at/?page_id=5275
SUMMARY:MUTTER - S2 E2 - Vinyl Lovers Unite!
LOCATION:DUAL
END:VEVENT
END:VCALENDAR


