BEGIN:VCALENDAR
VERSION:2.0
PRODID:-//hacksw/handcal//NONSGML v1.0//EN
BEGIN:VEVENT
UID:2522
DTSTART;VALUE=DATE:20141113
URL;VALUE=URI:ohschonhell.at/?page_id=5282
SUMMARY:Another World
LOCATION:RADIO - THE LABEL BAR
END:VEVENT
END:VCALENDAR


