BEGIN:VCALENDAR
VERSION:2.0
PRODID:-//hacksw/handcal//NONSGML v1.0//EN
BEGIN:VEVENT
UID:253
DTSTART;VALUE=DATE:20131213
URL;VALUE=URI:ohschonhell.at/?page_id=2739
SUMMARY:Sweet Heat - Disco\, House\, Blings
LOCATION:BRUT
END:VEVENT
END:VCALENDAR


